BEGIN:VCALENDAR
VERSION:2.0
PRODID:-//워쉽 미니스트리 홀리뮤직 - ECPv6.15.11//NONSGML v1.0//EN
CALSCALE:GREGORIAN
METHOD:PUBLISH
X-WR-CALNAME:워쉽 미니스트리 홀리뮤직
X-ORIGINAL-URL:https://holymusic.org
X-WR-CALDESC:워쉽 미니스트리 홀리뮤직 이벤트
REFRESH-INTERVAL;VALUE=DURATION:PT1H
X-Robots-Tag:noindex
X-PUBLISHED-TTL:PT1H
BEGIN:VTIMEZONE
TZID:UTC
BEGIN:STANDARD
TZOFFSETFROM:+0000
TZOFFSETTO:+0000
TZNAME:UTC
DTSTART:20240101T000000
END:STANDARD
END:VTIMEZONE
BEGIN:VTIMEZONE
TZID:Asia/Seoul
BEGIN:STANDARD
TZOFFSETFROM:+0900
TZOFFSETTO:+0900
TZNAME:KST
DTSTART:20240101T000000
END:STANDARD
END:VTIMEZONE
BEGIN:VEVENT
DTSTART;TZID=UTC:20251017T180000
DTEND;TZID=UTC:20251019T120000
DTSTAMP:20260419T122951
CREATED:20251012T133724Z
LAST-MODIFIED:20251012T133850Z
UID:1831-1760724000-1760875200@holymusic.org
SUMMARY:2025OPEN DOOR L3 WORSHIP CONFERENCE
DESCRIPTION:L3: Life\, Longing\, Listening\n\n\n예수를 따르는 예배자Worshippers Living for Jesus\n\n\n예배는 단순한 형식이 아니라\, 예수를 따르는 삶의 방식입니다. \n우리는 예배를 통해 하나님을 만나고 (은혜가 임하는_Encounter)\, 복음의 능력을 삶(Life)에서 경험하며\, \n세상속에서 하나님을 갈망(Longing)하는 예배자로 주님의 음성을 듣고(Listening) 살아가는 부르심을 받았습니다. \n이번 컨퍼런스를 통해 다양한 예배 환경속에서 하나님께 집중하며\, 교회\, 가정\, 일터\, 그리고 세상 가운데서 \n‘예수를 따르는 예배자’로서의 의미를 깊이 고민하고\, 실천적 방향을 모색 하고자 합니다.
URL:https://holymusic.org/event/1831/
LOCATION:3001 Centreville Rd\, Herndon\, VA 20171\, 3001 Centreville Rd\, Herndon\, 20171\, United States
ATTACH;FMTTYPE=image/png:https://holymusic.org/wp-content/uploads/2025/10/w3-scaled.png
END:VEVENT
BEGIN:VEVENT
DTSTART;TZID=Asia/Seoul:20251012T190000
DTEND;TZID=Asia/Seoul:20251012T213000
DTSTAMP:20260419T122951
CREATED:20251007T221327Z
LAST-MODIFIED:20251007T221327Z
UID:1784-1760295600-1760304600@holymusic.org
SUMMARY:송정미와 함께하는 ‘Here and Now WORSHIP’
DESCRIPTION:무더운 여름을 지나이 가을의 길목에 서서찬송가로 드리는 예배 <Here& now> 로다시 돌아왔어요이번 주일 저녁함께 오셔서 그 깊은 임재 안에서쉼과 회복을 누리실래요?끝나고 제가 따뜻한 차 한잔 살게요^^ \n  \n\n출처 -송정미 페이스북
URL:https://holymusic.org/event/%ec%86%a1%ec%a0%95%eb%af%b8%ec%99%80-%ed%95%a8%ea%bb%98%ed%95%98%eb%8a%94-here-and-now-worship/
LOCATION:대한민국 서울특별시 강남구 청담동 86 광야아트센터 킹콩빌딩 3층
ATTACH;FMTTYPE=image/jpeg:https://holymusic.org/wp-content/uploads/2025/10/song.jpg
END:VEVENT
END:VCALENDAR